BEGIN:VCALENDAR
VERSION:2.0
PRODID:-//Central Neighborhood Valparaiso, Indiana - ECPv6.15.20//NONSGML v1.0//EN
CALSCALE:GREGORIAN
METHOD:PUBLISH
X-ORIGINAL-URL:https://www.centralneighborhood.org
X-WR-CALDESC:Events for Central Neighborhood Valparaiso, Indiana
REFRESH-INTERVAL;VALUE=DURATION:PT1H
X-Robots-Tag:noindex
X-PUBLISHED-TTL:PT1H
BEGIN:VTIMEZONE
TZID:America/Chicago
BEGIN:DAYLIGHT
TZOFFSETFROM:-0600
TZOFFSETTO:-0500
TZNAME:CDT
DTSTART:20240310T080000
END:DAYLIGHT
BEGIN:STANDARD
TZOFFSETFROM:-0500
TZOFFSETTO:-0600
TZNAME:CST
DTSTART:20241103T070000
END:STANDARD
BEGIN:DAYLIGHT
TZOFFSETFROM:-0600
TZOFFSETTO:-0500
TZNAME:CDT
DTSTART:20250309T080000
END:DAYLIGHT
BEGIN:STANDARD
TZOFFSETFROM:-0500
TZOFFSETTO:-0600
TZNAME:CST
DTSTART:20251102T070000
END:STANDARD
BEGIN:DAYLIGHT
TZOFFSETFROM:-0600
TZOFFSETTO:-0500
TZNAME:CDT
DTSTART:20260308T080000
END:DAYLIGHT
BEGIN:STANDARD
TZOFFSETFROM:-0500
TZOFFSETTO:-0600
TZNAME:CST
DTSTART:20261101T070000
END:STANDARD
END:VTIMEZONE
BEGIN:VEVENT
DTSTART;VALUE=DATE:20250419
DTEND;VALUE=DATE:20250420
DTSTAMP:20260420T135809
CREATED:20241114T225944Z
LAST-MODIFIED:20241117T222832Z
UID:978-1745020800-1745107199@www.centralneighborhood.org
SUMMARY:Central Neighborhood Easter Egg Hunt
DESCRIPTION:Details TBA!
URL:https://www.centralneighborhood.org/event/central-neighborhood-easter-egg-hunt/
LOCATION:Valparaiso Woman’s Association\, 102 Washington St\, Valparaiso\, IN\, 46383\, United States
CATEGORIES:Community Events
ATTACH;FMTTYPE=image/jpeg:https://www.centralneighborhood.org/wp-content/uploads/2024/11/jpg.jpg
END:VEVENT
END:VCALENDAR